BEGIN:VCALENDAR
VERSION:2.0
PRODID:-//EEHD - Erneuerbare Energien - ECPv6.15.20//NONSGML v1.0//EN
CALSCALE:GREGORIAN
METHOD:PUBLISH
X-WR-CALNAME:EEHD - Erneuerbare Energien
X-ORIGINAL-URL:https://eehd.gmbh
X-WR-CALDESC:Veranstaltungen für EEHD - Erneuerbare Energien
REFRESH-INTERVAL;VALUE=DURATION:PT1H
X-Robots-Tag:noindex
X-PUBLISHED-TTL:PT1H
BEGIN:VTIMEZONE
TZID:Europe/Berlin
BEGIN:DAYLIGHT
TZOFFSETFROM:+0100
TZOFFSETTO:+0200
TZNAME:CEST
DTSTART:20230326T010000
END:DAYLIGHT
BEGIN:STANDARD
TZOFFSETFROM:+0200
TZOFFSETTO:+0100
TZNAME:CET
DTSTART:20231029T010000
END:STANDARD
BEGIN:DAYLIGHT
TZOFFSETFROM:+0100
TZOFFSETTO:+0200
TZNAME:CEST
DTSTART:20240331T010000
END:DAYLIGHT
BEGIN:STANDARD
TZOFFSETFROM:+0200
TZOFFSETTO:+0100
TZNAME:CET
DTSTART:20241027T010000
END:STANDARD
BEGIN:DAYLIGHT
TZOFFSETFROM:+0100
TZOFFSETTO:+0200
TZNAME:CEST
DTSTART:20250330T010000
END:DAYLIGHT
BEGIN:STANDARD
TZOFFSETFROM:+0200
TZOFFSETTO:+0100
TZNAME:CET
DTSTART:20251026T010000
END:STANDARD
END:VTIMEZONE
BEGIN:VEVENT
DTSTART;TZID=Europe/Berlin:20240604T090000
DTEND;TZID=Europe/Berlin:20240604T170000
DTSTAMP:20260420T090349
CREATED:20240516T124144Z
LAST-MODIFIED:20240516T124715Z
UID:21174406-1717491600-1717520400@eehd.gmbh
SUMMARY:16. Expertentreffen - "Mit stillen Wassern gewaschen."
DESCRIPTION:Das 16. Expertentreffen (04.06.2024)\, unser mitteldeutscher Branchentreff der Energiewirtschaft und Umwelttechnik\, ist im wahrsten Sinne des Wortes „mit allen Wassern gewaschen“: Nebst einigen Überraschungen erwarten Sie inspirierende Impulsreferate\, Einblicke in die zukunftsweisende Startup- und Wissenschaftsszenesowie intensive Diskussionsrunden rund um den Themenbereich Wasser & Energie. \nWasser ist ein intensiv beanspruchtes Gut\, welches als Quelle jeglichen Lebens eine besondere Energiequelle darstellt. Vor dem Hintergrund aktueller und künftiger Technologietrends (z.B. Wasserstoff) und globaler Klimaauswirkungen bedarf es einer gerechten\, effizienten und ökologisch verträglichen Bewirtschaftung. Dazu wollen wir Sie mit auf die Reise nehmen\, die heutige multifunktionale Nutzung und innovative Trends und Möglichkeiten mit Beispielen aus Wissenschaft und Praxis zu vertiefen. \nLassen Sie sich von den Impulsreferaten inspirieren und vernetzen Sie sich in den lösungsorientierten Foren mit Experten aus den jeweiligen Fachbereichen. \nAlle Details zu unseren hochkarätigen ReferentInnen und Diskussionsthemen finden Sie in unserem ausführlichen Programm. \nDie Teilnahme ist in Präsenz oder online per Live-Stream möglich: \n\nVollzahler:                      149\,00€\nNEU-Mitglieder:             89\,00€\nStudentInnen/Presse:    kostenfrei (begrenztes Angebot)\n\nMitglieder sowie StudentInnen/Presse benötigen einen Werbe-Code\, um die Vergünstigungen freizuschalten. Diesen erhalten Sie auf Anfrage über die Geschäftsstelle per Mail (neu@energiemetropole-leipzig.de). \nAnmeldeschluss ist der 31.05.2024 (12:00 Uhr MEZ). \nWir freuen uns auf Ihren Besuch!
URL:https://eehd.gmbh/veranstaltung/16-expertentreffen-mit-stillen-wassern-gewaschen/
LOCATION:Mediencampus Villa Ida\, Poetenweg 28\, Leipzig\, 04155\, Deutschland
ATTACH;FMTTYPE=image/png:https://eehd.gmbh/wp-content/uploads/2024/05/image-1.png
END:VEVENT
END:VCALENDAR