BEGIN:VCALENDAR
VERSION:2.0
PRODID:-//EEHD - Erneuerbare Energien - ECPv6.15.20//NONSGML v1.0//EN
CALSCALE:GREGORIAN
METHOD:PUBLISH
X-WR-CALNAME:EEHD - Erneuerbare Energien
X-ORIGINAL-URL:https://eehd.gmbh
X-WR-CALDESC:Veranstaltungen für EEHD - Erneuerbare Energien
REFRESH-INTERVAL;VALUE=DURATION:PT1H
X-Robots-Tag:noindex
X-PUBLISHED-TTL:PT1H
BEGIN:VTIMEZONE
TZID:Europe/Berlin
BEGIN:DAYLIGHT
TZOFFSETFROM:+0100
TZOFFSETTO:+0200
TZNAME:CEST
DTSTART:20230326T010000
END:DAYLIGHT
BEGIN:STANDARD
TZOFFSETFROM:+0200
TZOFFSETTO:+0100
TZNAME:CET
DTSTART:20231029T010000
END:STANDARD
BEGIN:DAYLIGHT
TZOFFSETFROM:+0100
TZOFFSETTO:+0200
TZNAME:CEST
DTSTART:20240331T010000
END:DAYLIGHT
BEGIN:STANDARD
TZOFFSETFROM:+0200
TZOFFSETTO:+0100
TZNAME:CET
DTSTART:20241027T010000
END:STANDARD
BEGIN:DAYLIGHT
TZOFFSETFROM:+0100
TZOFFSETTO:+0200
TZNAME:CEST
DTSTART:20250330T010000
END:DAYLIGHT
BEGIN:STANDARD
TZOFFSETFROM:+0200
TZOFFSETTO:+0100
TZNAME:CET
DTSTART:20251026T010000
END:STANDARD
END:VTIMEZONE
BEGIN:VEVENT
DTSTART;TZID=Europe/Berlin:20240522T110000
DTEND;TZID=Europe/Berlin:20240522T120000
DTSTAMP:20260419T191624
CREATED:20240521T095428Z
LAST-MODIFIED:20240521T104538Z
UID:21174468-1716375600-1716379200@eehd.gmbh
SUMMARY:Solar.Pro.Tool - Advanced
DESCRIPTION:Anmeldung direkt über den Hersteller / Veranstalter\nJetzt anmelden »
URL:https://eehd.gmbh/veranstaltung/21174468/
LOCATION:Webinar
ATTACH;FMTTYPE=image/png:https://eehd.gmbh/wp-content/uploads/2024/05/image-6.png
END:VEVENT
END:VCALENDAR