BEGIN:VCALENDAR
VERSION:2.0
PRODID:-//EEHD - Erneuerbare Energien - ECPv6.15.20//NONSGML v1.0//EN
CALSCALE:GREGORIAN
METHOD:PUBLISH
X-WR-CALNAME:EEHD - Erneuerbare Energien
X-ORIGINAL-URL:https://eehd.gmbh
X-WR-CALDESC:Veranstaltungen für EEHD - Erneuerbare Energien
REFRESH-INTERVAL;VALUE=DURATION:PT1H
X-Robots-Tag:noindex
X-PUBLISHED-TTL:PT1H
BEGIN:VTIMEZONE
TZID:Europe/Berlin
BEGIN:DAYLIGHT
TZOFFSETFROM:+0100
TZOFFSETTO:+0200
TZNAME:CEST
DTSTART:20240331T010000
END:DAYLIGHT
BEGIN:STANDARD
TZOFFSETFROM:+0200
TZOFFSETTO:+0100
TZNAME:CET
DTSTART:20241027T010000
END:STANDARD
BEGIN:DAYLIGHT
TZOFFSETFROM:+0100
TZOFFSETTO:+0200
TZNAME:CEST
DTSTART:20250330T010000
END:DAYLIGHT
BEGIN:STANDARD
TZOFFSETFROM:+0200
TZOFFSETTO:+0100
TZNAME:CET
DTSTART:20251026T010000
END:STANDARD
BEGIN:DAYLIGHT
TZOFFSETFROM:+0100
TZOFFSETTO:+0200
TZNAME:CEST
DTSTART:20260329T010000
END:DAYLIGHT
BEGIN:STANDARD
TZOFFSETFROM:+0200
TZOFFSETTO:+0100
TZNAME:CET
DTSTART:20261025T010000
END:STANDARD
END:VTIMEZONE
BEGIN:VEVENT
DTSTART;TZID=Europe/Berlin:20250513T170000
DTEND;TZID=Europe/Berlin:20250513T180000
DTSTAMP:20260419T191902
CREATED:20250429T092412Z
LAST-MODIFIED:20250513T142904Z
UID:21186880-1747155600-1747159200@eehd.gmbh
SUMMARY:Geld verdienen mit Schwarm-Speicher(n)
DESCRIPTION:Webinar 13.05.2025 – 17:00 Uhr \nStellen Sie sich vor\, ihr Trafo/Netzanschluss kann mit den freien Reserven Geld verdienen!? Ihre PV-Anlage hat Reserven\, so wie Ihr Netzanschluss. Hier haben wir ein Produkt\, was diese Kapazitäten nutzt. Einen Schwarm-Speicher. \nIhr Anlage erwirtschaftet Gewinn\, Sie haben einen IAB oder Sie wollen noch mehr aus Ihrem Anschluss herausholen? Dann sollten Sie ernsthaft darüber nachdenken die freien Kapazitäten zu nutzen\, oder auch nach freien Kapazitäten bei ihrem Netzbetreiber zu fragen – der muss ihnen die übrigens nennen und wir sagen Ihnen wie. \nDer Zugangslink zum Webinar wird Ihnen bis spätestens 1 h vor Veranstaltungsbeginn zugesandt\, wenn Sie keine E-Mail automatisch erhalten haben.
URL:https://eehd.gmbh/veranstaltung/geld-verdienen-mit-schwarm-speichern/
CATEGORIES:Webinar
ATTACH;FMTTYPE=image/png:https://eehd.gmbh/wp-content/uploads/2025/04/Bildschirmfoto-2025-04-28-um-15.22.48.png
LOCATION:https://eehd.gmbh/veranstaltung/geld-verdienen-mit-schwarm-speichern/
END:VEVENT
END:VCALENDAR