BEGIN:VCALENDAR
VERSION:2.0
PRODID:-//EEHD - Erneuerbare Energien - ECPv6.15.20//NONSGML v1.0//EN
CALSCALE:GREGORIAN
METHOD:PUBLISH
X-WR-CALNAME:EEHD - Erneuerbare Energien
X-ORIGINAL-URL:https://eehd.gmbh
X-WR-CALDESC:Veranstaltungen für EEHD - Erneuerbare Energien
REFRESH-INTERVAL;VALUE=DURATION:PT1H
X-Robots-Tag:noindex
X-PUBLISHED-TTL:PT1H
BEGIN:VTIMEZONE
TZID:Europe/Berlin
BEGIN:DAYLIGHT
TZOFFSETFROM:+0100
TZOFFSETTO:+0200
TZNAME:CEST
DTSTART:20240331T010000
END:DAYLIGHT
BEGIN:STANDARD
TZOFFSETFROM:+0200
TZOFFSETTO:+0100
TZNAME:CET
DTSTART:20241027T010000
END:STANDARD
BEGIN:DAYLIGHT
TZOFFSETFROM:+0100
TZOFFSETTO:+0200
TZNAME:CEST
DTSTART:20250330T010000
END:DAYLIGHT
BEGIN:STANDARD
TZOFFSETFROM:+0200
TZOFFSETTO:+0100
TZNAME:CET
DTSTART:20251026T010000
END:STANDARD
BEGIN:DAYLIGHT
TZOFFSETFROM:+0100
TZOFFSETTO:+0200
TZNAME:CEST
DTSTART:20260329T010000
END:DAYLIGHT
BEGIN:STANDARD
TZOFFSETFROM:+0200
TZOFFSETTO:+0100
TZNAME:CET
DTSTART:20261025T010000
END:STANDARD
END:VTIMEZONE
BEGIN:VEVENT
DTSTART;VALUE=DATE:20250507
DTEND;VALUE=DATE:20250511
DTSTAMP:20260419T191813
CREATED:20250415T074653Z
LAST-MODIFIED:20250429T092743Z
UID:21186724-1746604800-1746863999@eehd.gmbh
SUMMARY:Intersolar A2.210 - HAITAI & EEHD
DESCRIPTION:Wir freuen uns sie auf dem Stand von HAITAI begrüßen zu dürfen\, als Anlaufstelle für Sie. Hier stellen wir Ihnen den Hersteller im Detail vor und es ist Zeit für einen Plausch bei Kaffee\, Tee und anderen Getränken. \nSie benötigen Freikarten? Dann senden Sie uns eine E-Mail an vertrieb@eehd.gmbh mit dem Betreff „Freikarten“ und ihrer Wunschanzahl. Da das Kontingent begrenzt ist\, melden Sie sich schnellstmöglich bei uns.
URL:https://eehd.gmbh/veranstaltung/intersolar-a2-210-haitai-eehd/
CATEGORIES:Messe
ATTACH;FMTTYPE=image/jpeg:https://eehd.gmbh/wp-content/uploads/2025/03/IMG_8869-scaled.jpeg
END:VEVENT
END:VCALENDAR