BEGIN:VCALENDAR
VERSION:2.0
PRODID:-//EEHD - Erneuerbare Energien - ECPv6.15.20//NONSGML v1.0//EN
CALSCALE:GREGORIAN
METHOD:PUBLISH
X-WR-CALNAME:EEHD - Erneuerbare Energien
X-ORIGINAL-URL:https://eehd.gmbh
X-WR-CALDESC:Veranstaltungen für EEHD - Erneuerbare Energien
REFRESH-INTERVAL;VALUE=DURATION:PT1H
X-Robots-Tag:noindex
X-PUBLISHED-TTL:PT1H
BEGIN:VTIMEZONE
TZID:Europe/Berlin
BEGIN:DAYLIGHT
TZOFFSETFROM:+0100
TZOFFSETTO:+0200
TZNAME:CEST
DTSTART:20250330T010000
END:DAYLIGHT
BEGIN:STANDARD
TZOFFSETFROM:+0200
TZOFFSETTO:+0100
TZNAME:CET
DTSTART:20251026T010000
END:STANDARD
BEGIN:DAYLIGHT
TZOFFSETFROM:+0100
TZOFFSETTO:+0200
TZNAME:CEST
DTSTART:20260329T010000
END:DAYLIGHT
BEGIN:STANDARD
TZOFFSETFROM:+0200
TZOFFSETTO:+0100
TZNAME:CET
DTSTART:20261025T010000
END:STANDARD
BEGIN:DAYLIGHT
TZOFFSETFROM:+0100
TZOFFSETTO:+0200
TZNAME:CEST
DTSTART:20270328T010000
END:DAYLIGHT
BEGIN:STANDARD
TZOFFSETFROM:+0200
TZOFFSETTO:+0100
TZNAME:CET
DTSTART:20271031T010000
END:STANDARD
END:VTIMEZONE
BEGIN:VEVENT
DTSTART;TZID=Europe/Berlin:20260129T090000
DTEND;TZID=Europe/Berlin:20260129T180000
DTSTAMP:20260419T211415
CREATED:20250415T075131Z
LAST-MODIFIED:20260114T100157Z
UID:21186726-1769677200-1769709600@eehd.gmbh
SUMMARY:Leipziger Photovoltaikforum - 6. Auflage - PROGRAMM STEHT!
DESCRIPTION:Auch im Jahr 2025 laden Sie die MASLATON Rechtsanwaltsgesellschaft und der LEE Sachsen e.V. wieder herzlich zum Leipziger Photovoltaikforum in der 6. Auflage ein. \nDas Programm steht fest: https://www.leipziger-photovoltaik-forum.de/ \nLink zur Bestellung: https://pretix.eu/MASLATON/6.PV-Forum/ 
URL:https://eehd.gmbh/veranstaltung/leipziger-photovoltaikforum-auflage-6/
LOCATION:Victor’s Residenz Leipzig\, Georgiring 13\, Leipzig\, Sachsen\, 04103
CATEGORIES:Forum
ATTACH;FMTTYPE=image/jpeg:https://eehd.gmbh/wp-content/uploads/2024/07/IMG_4391-scaled.jpeg
END:VEVENT
END:VCALENDAR