BEGIN:VCALENDAR
VERSION:2.0
PRODID:-//EEHD - Erneuerbare Energien - ECPv6.15.20//NONSGML v1.0//EN
CALSCALE:GREGORIAN
METHOD:PUBLISH
X-WR-CALNAME:EEHD - Erneuerbare Energien
X-ORIGINAL-URL:https://eehd.gmbh
X-WR-CALDESC:Veranstaltungen für EEHD - Erneuerbare Energien
REFRESH-INTERVAL;VALUE=DURATION:PT1H
X-Robots-Tag:noindex
X-PUBLISHED-TTL:PT1H
BEGIN:VTIMEZONE
TZID:Europe/Berlin
BEGIN:DAYLIGHT
TZOFFSETFROM:+0100
TZOFFSETTO:+0200
TZNAME:CEST
DTSTART:20250330T010000
END:DAYLIGHT
BEGIN:STANDARD
TZOFFSETFROM:+0200
TZOFFSETTO:+0100
TZNAME:CET
DTSTART:20251026T010000
END:STANDARD
BEGIN:DAYLIGHT
TZOFFSETFROM:+0100
TZOFFSETTO:+0200
TZNAME:CEST
DTSTART:20260329T010000
END:DAYLIGHT
BEGIN:STANDARD
TZOFFSETFROM:+0200
TZOFFSETTO:+0100
TZNAME:CET
DTSTART:20261025T010000
END:STANDARD
BEGIN:DAYLIGHT
TZOFFSETFROM:+0100
TZOFFSETTO:+0200
TZNAME:CEST
DTSTART:20270328T010000
END:DAYLIGHT
BEGIN:STANDARD
TZOFFSETFROM:+0200
TZOFFSETTO:+0100
TZNAME:CET
DTSTART:20271031T010000
END:STANDARD
END:VTIMEZONE
BEGIN:VEVENT
DTSTART;TZID=Europe/Berlin:20260225T090000
DTEND;TZID=Europe/Berlin:20260225T100000
DTSTAMP:20260419T192200
CREATED:20260224T130152Z
LAST-MODIFIED:20260224T130510Z
UID:21189382-1772010000-1772013600@eehd.gmbh
SUMMARY:pvcampus - Vortrag mehr Wirtschaftlichkeit durch Grausstromspeicher
DESCRIPTION:Gemeinsam mit dem pvcampus wollen wir hier deutlich machen\, was ein Graustromspeicher – oder vor allem unser Schwarmspeicher für Vorteile bringt\, hierzu ein Auszug aus dem Programm und der Vorstellung. \n\n\n\n\n\n\n\n\n\n\n\n\n\n\n\n\n\n\n\n\n\n\n\n\nZuerst stellt ein Whitepaper von drei Branchenfirmen laut einer Analyse fest\, dass sich die Wirtschaftlichkeit von PV-Anlagen durch sog. Co-Location- Graustromspeicher deutlich erhöhen lässt. Von bis zu 30 % Erhöhung des internen Zinsfuß von PV-Projekten ist dort nachzulesen.Wie?Durch geteilte Infrastrukturkosten von PV-Projekt und Speicherprojekt und die zusätzliche Monetarisierung des Netzanschlusses lässt sich der interne Zinsfuß je nach Szenario um bis zu knapp 30 Prozent steigern.Dann sieht das Marktforschungsunternehmen Aurora Energy Research Deutschland aufgrund des hohen Flexibilisierungsbedarfs als führenden Batteriemarkt in Europa und rechnet mit einem kurz- und langfristigen Marktwachstum auf mit 13 Gigawatt alleine bei Großspeichern bis 2030 (aktuell ca. 3 GW). Gleichzeitig bestätigen die Analysten\, dass in vielen Ländern das Thema Netze auch für Batteriespeicher deutlich in den Vordergrund rückt. So werden derzeit in vielen Ländern Diskussionen über flexible Netzanschlussvereinbarungen (FCAs) und mögliche Auswirkungen auf die Wirtschaftlichkeit von Batterien geführt.Deshalb stellt sich klar die Frage:Speicher im Fokus – wie Projekte weiterhin wirtschaftlich planen und umsetzen? \n\n\n\n\n\n\n\n\n\n\n\n\n\n\n\n\n\n\n\n\nZur Anmeldung nutzen Sie den Link zum pvcampus.
URL:https://eehd.gmbh/veranstaltung/pvcampus-vortrag-mehr-wirtschaftlichkeit-durch-grausstromspeicher/
LOCATION:Webinar
ATTACH;FMTTYPE=image/png:https://eehd.gmbh/wp-content/uploads/2025/04/Bildschirmfoto-2025-04-28-um-15.22.48.png
END:VEVENT
END:VCALENDAR