BEGIN:VCALENDAR
VERSION:2.0
PRODID:-//EEHD - Erneuerbare Energien - ECPv6.15.20//NONSGML v1.0//EN
CALSCALE:GREGORIAN
METHOD:PUBLISH
X-WR-CALNAME:EEHD - Erneuerbare Energien
X-ORIGINAL-URL:https://eehd.gmbh
X-WR-CALDESC:Veranstaltungen für EEHD - Erneuerbare Energien
REFRESH-INTERVAL;VALUE=DURATION:PT1H
X-Robots-Tag:noindex
X-PUBLISHED-TTL:PT1H
BEGIN:VTIMEZONE
TZID:Europe/Berlin
BEGIN:DAYLIGHT
TZOFFSETFROM:+0100
TZOFFSETTO:+0200
TZNAME:CEST
DTSTART:20240331T010000
END:DAYLIGHT
BEGIN:STANDARD
TZOFFSETFROM:+0200
TZOFFSETTO:+0100
TZNAME:CET
DTSTART:20241027T010000
END:STANDARD
BEGIN:DAYLIGHT
TZOFFSETFROM:+0100
TZOFFSETTO:+0200
TZNAME:CEST
DTSTART:20250330T010000
END:DAYLIGHT
BEGIN:STANDARD
TZOFFSETFROM:+0200
TZOFFSETTO:+0100
TZNAME:CET
DTSTART:20251026T010000
END:STANDARD
BEGIN:DAYLIGHT
TZOFFSETFROM:+0100
TZOFFSETTO:+0200
TZNAME:CEST
DTSTART:20260329T010000
END:DAYLIGHT
BEGIN:STANDARD
TZOFFSETFROM:+0200
TZOFFSETTO:+0100
TZNAME:CET
DTSTART:20261025T010000
END:STANDARD
END:VTIMEZONE
BEGIN:VEVENT
DTSTART;VALUE=DATE:20250904
DTEND;VALUE=DATE:20250907
DTSTAMP:20260419T154431
CREATED:20250527T092640Z
LAST-MODIFIED:20250821T085315Z
UID:21187155-1756972800-1757145599@eehd.gmbh
SUMMARY:ETH 2025 - Energietag in Walbeck – Vernetzen Sie sich mit der Zukunft
DESCRIPTION:Hier direkt anmelden: https://energietagung-msh.de/anmeldung.html  \nDie Zukunft der Energiebranche lebt von innovativen Ideen\, wegweisenden Lösungen und starken Netzwerken – deshalb laden wir Sie herzlich zur 3. Energietagung 2025 ein!  \nAls zentraler Branchentreff bietet die Veranstaltung eine inspirierende Plattform für fachlichen Austausch\, neue Impulse und gemeinsame Visionen. \nDas erwartet Sie: \n\nFachvorträge und Diskussionen zu aktuellen Themen der Energiebranche\nNachhaltige Verpflegung mit regionalen Produkten\nExklusive Abendveranstaltung zum Netzwerken\nKostenfreie Teilnahme – ermöglicht durch unsere Sponsoren und Partner\n\nWann? 04. bis 05. September 2025 \nWo? Sonnenschloss Walbeck\, Hettstedt \n Gemeinsam möchten wir nicht nur über Fortschritt sprechen\, sondern ihn aktiv gestalten. Denn echte Veränderung entsteht durch Zusammenarbeit – und Ihr Engagement ist dabei ein wichtiger Teil! \n Jetzt anmelden und Platz sichern: https://energietagung-msh.de/anmeldung.html \nWeitere Informationen finden Sie auf unserer Website:  https://energietagung-msh.de/\nTreffen sie auch uns vor Ort. Wir sind mit einem Vortrag rund um ökologisches bauen und Sanieren vor Ort. Ebenso sind einige unserer Hersteller auch vor Ort\, die die viele Fachfragen beantworten können\, für die häufig im Geschäftsaltag keine Zeit bleibt.
URL:https://eehd.gmbh/veranstaltung/regionale-energiewende-gestalten-04-05-09-2025-sonnenschloss-walbeck/
ATTACH;FMTTYPE=image/jpeg:https://eehd.gmbh/wp-content/uploads/2025/05/image.jpeg
END:VEVENT
END:VCALENDAR