BEGIN:VCALENDAR
VERSION:2.0
PRODID:-//EEHD - Erneuerbare Energien - ECPv6.15.20//NONSGML v1.0//EN
CALSCALE:GREGORIAN
METHOD:PUBLISH
X-WR-CALNAME:EEHD - Erneuerbare Energien
X-ORIGINAL-URL:https://eehd.gmbh
X-WR-CALDESC:Veranstaltungen für EEHD - Erneuerbare Energien
REFRESH-INTERVAL;VALUE=DURATION:PT1H
X-Robots-Tag:noindex
X-PUBLISHED-TTL:PT1H
BEGIN:VTIMEZONE
TZID:Europe/Berlin
BEGIN:DAYLIGHT
TZOFFSETFROM:+0100
TZOFFSETTO:+0200
TZNAME:CEST
DTSTART:20230326T010000
END:DAYLIGHT
BEGIN:STANDARD
TZOFFSETFROM:+0200
TZOFFSETTO:+0100
TZNAME:CET
DTSTART:20231029T010000
END:STANDARD
BEGIN:DAYLIGHT
TZOFFSETFROM:+0100
TZOFFSETTO:+0200
TZNAME:CEST
DTSTART:20240331T010000
END:DAYLIGHT
BEGIN:STANDARD
TZOFFSETFROM:+0200
TZOFFSETTO:+0100
TZNAME:CET
DTSTART:20241027T010000
END:STANDARD
BEGIN:DAYLIGHT
TZOFFSETFROM:+0100
TZOFFSETTO:+0200
TZNAME:CEST
DTSTART:20250330T010000
END:DAYLIGHT
BEGIN:STANDARD
TZOFFSETFROM:+0200
TZOFFSETTO:+0100
TZNAME:CET
DTSTART:20251026T010000
END:STANDARD
END:VTIMEZONE
BEGIN:VEVENT
DTSTART;TZID=Europe/Berlin:20241212T100000
DTEND;TZID=Europe/Berlin:20241212T170000
DTSTAMP:20260419T224658
CREATED:20241205T083118Z
LAST-MODIFIED:20241205T083118Z
UID:21182701-1733997600-1734022800@eehd.gmbh
SUMMARY:SL Fast Flat – Variationsmöglichkeiten\, Anbauteile und Zubehör für eine effiziente Montage
DESCRIPTION:Wir zeigen Ihnen\, wie Ihr System flexibel und zeitsparend montiert werden kann.\nMit Patrick Reifert und Daniel März. Jetzt anmelden! \nBitte melden Sie sich direkt über den Hersteller-Link an.
URL:https://eehd.gmbh/veranstaltung/sl-fast-flat-variationsmoeglichkeiten-anbauteile-und-zubehoer-fuer-eine-effiziente-montage/
LOCATION:Webinar
CATEGORIES:Webinar
ATTACH;FMTTYPE=image/png:https://eehd.gmbh/wp-content/uploads/2021/08/Bildschirmfoto-2021-08-22-um-13.47.59.png
END:VEVENT
END:VCALENDAR