BEGIN:VCALENDAR
VERSION:2.0
PRODID:-//EEHD - Erneuerbare Energien - ECPv6.15.20//NONSGML v1.0//EN
CALSCALE:GREGORIAN
METHOD:PUBLISH
X-WR-CALNAME:EEHD - Erneuerbare Energien
X-ORIGINAL-URL:https://eehd.gmbh
X-WR-CALDESC:Veranstaltungen für EEHD - Erneuerbare Energien
REFRESH-INTERVAL;VALUE=DURATION:PT1H
X-Robots-Tag:noindex
X-PUBLISHED-TTL:PT1H
BEGIN:VTIMEZONE
TZID:Europe/Berlin
BEGIN:DAYLIGHT
TZOFFSETFROM:+0100
TZOFFSETTO:+0200
TZNAME:CEST
DTSTART:20240331T010000
END:DAYLIGHT
BEGIN:STANDARD
TZOFFSETFROM:+0200
TZOFFSETTO:+0100
TZNAME:CET
DTSTART:20241027T010000
END:STANDARD
BEGIN:DAYLIGHT
TZOFFSETFROM:+0100
TZOFFSETTO:+0200
TZNAME:CEST
DTSTART:20250330T010000
END:DAYLIGHT
BEGIN:STANDARD
TZOFFSETFROM:+0200
TZOFFSETTO:+0100
TZNAME:CET
DTSTART:20251026T010000
END:STANDARD
BEGIN:DAYLIGHT
TZOFFSETFROM:+0100
TZOFFSETTO:+0200
TZNAME:CEST
DTSTART:20260329T010000
END:DAYLIGHT
BEGIN:STANDARD
TZOFFSETFROM:+0200
TZOFFSETTO:+0100
TZNAME:CET
DTSTART:20261025T010000
END:STANDARD
END:VTIMEZONE
BEGIN:VEVENT
DTSTART;VALUE=DATE:20250426
DTEND;VALUE=DATE:20250428
DTSTAMP:20260419T211210
CREATED:20250415T074317Z
LAST-MODIFIED:20250425T093818Z
UID:21186721-1745654400-1745740799@eehd.gmbh
SUMMARY:Tag der Erneuerbaren
DESCRIPTION:De BEE plant\, im Rahmen des diesjährigen Tags der Erneuerbaren (am 26. April 2025) ein paar Aktionen zu starten\, um auf diesen Tag hinzuweisen und die Erneuerbaren in Deutschland zu feiern. Dazu möchten wir gemeinsam mit euch etwas Neues auf die Beine stellen. Es ist üblich\, dass am Tag der Erneuerbaren im ganzen Land viele kleine Events stattfinden. Traditionell öffnen viele Erneuerbaren-Betriebe ihre Türen und Besucher*innen erhalten beispielsweise die Gelegenheit\, sich eine Biogasanlage\, ein Wasserkraftwerk oder ein Windrad aus nächster Nähe anzuschauen. Auch viele andere Aktionen finden an diesem Tag statt. Wir möchten als LEE-Sachsen auf unserer Webseite eine Plattform anbieten\, die alle diese kleinen und großen Aktionen zum Tag der Erneuerbaren sammelt und auf der Seite des BEE deutschlandweit darstellt\, so dass Interessierte einen Anlaufpunkt und eine gute Übersicht der Events in ihrer Nähe haben und wir diese gemeinsam bewerben können. Doch dafür benötigen wir euch\, denn eure Mitglieder sind die Betriebe\, die diese Events ausrichten! \nWir würden uns sehr freuen\, ob sie eine Aktion zum Tag der Erneuerbaren geplant haben. Vielleicht habt ihr ja auch schon eine Übersicht dazu oder plant selbst etwas. In jedem Fällen wäre es super\, wenn ihr bzw. eure Mitglieder die Details dazu an mich weiterleiten könntet\, damit ich sie zusammentragen und die Übersicht auf unserer Webseite ins Leben rufen kann. Dazu benötigen wir: \n\nName des Events\nEvtl. kurze Beschreibung (1-2 Sätze)\nDatum und Zeit\nOrt oder digital\nWebseite bzw. Anmeldung\n\nWir als LEE-Sachsen und der BEE wollen diese Veranstaltung dann bekannter machen. Senden Sie uns ihren geplanten Event an info@lee-sachsen.de.
URL:https://eehd.gmbh/veranstaltung/tag-der-erneuerbaren/
ATTACH;FMTTYPE=image/png:https://eehd.gmbh/wp-content/uploads/2023/01/Nachbau_LogoLEE.png
END:VEVENT
END:VCALENDAR